BEGIN:VCALENDAR
VERSION:2.0
PRODID:-//Urbanonetwork//NONSGML v1.0//EN
METHOD:PUBLISH
BEGIN:VEVENT
UID:urbanonetwork-event-1025
DTSTAMP:20170216T090000Z
ORGANIZER;CN=Charlotte Baker:MAILTO:Charlotte@responsible-solutions.co.uk
STATUS:CONFIRMED
DTSTART:20170216T090000Z
DTEND:20170216T110000Z
LAST-MODIFIED:20170111T133350Z
LOCATION:Responsible Solutions Ltd, Building One, 30 Loughborough Road, Leicestershire, LE12 7AT
SUMMARY:Introduction to Environmental Management Systems
URL:https://www.urbanonetwork.co.uk/london-networking-events/1025/2017/02/16/introduction-to-environmental-management-systems
DESCRIPTION:Introduction to Environmental Management Systems
END:VEVENT
END:VCALENDAR