BEGIN:VCALENDAR
VERSION:2.0
PRODID:-//Urbanonetwork//NONSGML v1.0//EN
METHOD:PUBLISH
BEGIN:VEVENT
UID:urbanonetwork-event-1035
DTSTAMP:20170125T090000Z
ORGANIZER;CN=Andy Coley:MAILTO:andy@theconfidenceexperts.com
STATUS:CONFIRMED
DTSTART:20170125T090000Z
DTEND:20170125T110000Z
LAST-MODIFIED:20170118T090451Z
LOCATION:Union Jack Club, Sandell St, London, SE1 8UJ
SUMMARY:How to speak with confidence
URL:https://www.urbanonetwork.co.uk/london-networking-events/1035/2017/01/25/how-to-speak-with-confidence
DESCRIPTION:Have the confidence to engage your audience, enjoy speaking to large groups of people and deliver a powerful message&amp;nbsp;
END:VEVENT
END:VCALENDAR