BEGIN:VCALENDAR
VERSION:2.0
PRODID:-//Urbanonetwork//NONSGML v1.0//EN
METHOD:PUBLISH
BEGIN:VEVENT
UID:urbanonetwork-event-1036
DTSTAMP:20170218T090000Z
ORGANIZER;CN=Andy Coley:MAILTO:andy@theconfidenceexperts.com
STATUS:CONFIRMED
DTSTART:20170218T090000Z
DTEND:20170218T110000Z
LAST-MODIFIED:20170113T235045Z
LOCATION:Union Jack Club, Sandell St, London, SE1 8UJ
SUMMARY:Confidence Acceleration - Free Personal Development Day in Central London
URL:https://www.urbanonetwork.co.uk/london-networking-events/1036/2017/02/18/confidence-acceleration-free-personal-development-day-in-central-london
DESCRIPTION:A completely free event to banish those self-doubt demons forever and project unmistakable confidence
END:VEVENT
END:VCALENDAR