BEGIN:VCALENDAR
VERSION:2.0
PRODID:-//Urbanonetwork//NONSGML v1.0//EN
METHOD:PUBLISH
BEGIN:VEVENT
UID:urbanonetwork-event-1054
DTSTAMP:20170301T183000Z
ORGANIZER;CN=Lauren Aston:MAILTO:lauren@raffingers.co.uk
STATUS:CONFIRMED
DTSTART:20170301T183000Z
DTEND:20170301T203000Z
LAST-MODIFIED:20170223T102445Z
LOCATION:WeWork, 1 Primrose Street, London, EC2A 2EX
SUMMARY:Fancy some free cash for your business?
URL:https://www.urbanonetwork.co.uk/london-networking-events/1054/2017/03/01/fancy-some-free-cash-for-your-business
DESCRIPTION:
END:VEVENT
END:VCALENDAR