BEGIN:VCALENDAR
VERSION:2.0
PRODID:-//Urbanonetwork//NONSGML v1.0//EN
METHOD:PUBLISH
BEGIN:VEVENT
UID:urbanonetwork-event-1055
DTSTAMP:20170323T123000Z
ORGANIZER;CN=Susan Kench:MAILTO:susan@linkedintutors.com
STATUS:CONFIRMED
DTSTART:20170323T123000Z
DTEND:20170323T143000Z
LAST-MODIFIED:20170205T114921Z
LOCATION:Marshall Walker Associates, 73 Cornhill, London, EC3V 3QQ
SUMMARY:Using LinkedIn as a Business Development &amp; Marketing Tool
URL:https://www.urbanonetwork.co.uk/london-networking-events/1055/2017/03/23/using-linkedin-as-a-business-development-marketing-tool
DESCRIPTION:Are you using LinkedIn to build your business?
END:VEVENT
END:VCALENDAR