BEGIN:VCALENDAR
VERSION:2.0
PRODID:-//Urbanonetwork//NONSGML v1.0//EN
METHOD:PUBLISH
BEGIN:VEVENT
UID:urbanonetwork-event-1056
DTSTAMP:20170312T120000Z
ORGANIZER;CN=Ginny Dale:MAILTO:ginny@dishoom.com
STATUS:CONFIRMED
DTSTART:20170312T120000Z
DTEND:20170312T140000Z
LAST-MODIFIED:20170209T164828Z
LOCATION:York Hall Bethnal Green, 5-15 Old Ford Road, London, E2 9PJ
SUMMARY:Play Holi with Dishoom
URL:https://www.urbanonetwork.co.uk/london-networking-events/1056/2017/03/12/play-holi-with-dishoom
DESCRIPTION:Two colourful events celebrating Holi and breaking down barriers!
END:VEVENT
END:VCALENDAR