BEGIN:VCALENDAR
VERSION:2.0
PRODID:-//Urbanonetwork//NONSGML v1.0//EN
METHOD:PUBLISH
BEGIN:VEVENT
UID:urbanonetwork-event-1063
DTSTAMP:20170315T083000Z
ORGANIZER;CN=Charlotte Baker:MAILTO:Charlotte@responsible-solutions.co.uk
STATUS:CONFIRMED
DTSTART:20170315T083000Z
DTEND:20170315T103000Z
LAST-MODIFIED:20170223T101432Z
LOCATION:Responsible Solutions Ltd, Building One, 30 Loughborough Road, Leicestershire, LE12 7AT
SUMMARY:FREE Breakfast event: The Modern Slavery Act, What do you need to know?
URL:https://www.urbanonetwork.co.uk/london-networking-events/1063/2017/03/15/free-breakfast-event-the-modern-slavery-act-what-do-you-need-to-know
DESCRIPTION:The Modern Slavery Act 2015, was the UK&#039;s latest step towards eliminating slavery, in all its forms.&amp;nbsp;
END:VEVENT
END:VCALENDAR