BEGIN:VCALENDAR
VERSION:2.0
PRODID:-//Urbanonetwork//NONSGML v1.0//EN
METHOD:PUBLISH
BEGIN:VEVENT
UID:urbanonetwork-event-1070
DTSTAMP:20170323T100000Z
ORGANIZER;CN=Dominic Melly:MAILTO:dominic.melly@wirehive.com
STATUS:CONFIRMED
DTSTART:20170323T100000Z
DTEND:20170323T120000Z
LAST-MODIFIED:20170309T155751Z
LOCATION:Guildford Harbour Hotel, 3 Alexandra Terrace, Guildford, GU1 3DA
SUMMARY:Web Expo Guildford (WXG)
URL:https://www.urbanonetwork.co.uk/london-networking-events/1070/2017/03/23/web-expo-guildford-wxg
DESCRIPTION:Returning for its fifth year, Wirehive have collaborated with Kyan to bring you WXG. A one-day digital conference featuring inspirational speakers from the creative and technical industries.
END:VEVENT
END:VCALENDAR