BEGIN:VCALENDAR
VERSION:2.0
PRODID:-//Urbanonetwork//NONSGML v1.0//EN
METHOD:PUBLISH
BEGIN:VEVENT
UID:urbanonetwork-event-1071
DTSTAMP:20170317T093000Z
ORGANIZER;CN=Emma Savory:MAILTO:emma.savory@lucidica.com
STATUS:CONFIRMED
DTSTART:20170317T093000Z
DTEND:20170317T113000Z
LAST-MODIFIED:20170306T130759Z
LOCATION:Accelerator Building, 35 Kingsland Road, London, E2 8AA
SUMMARY:How a Client Nearly Lost £750,000
URL:https://www.urbanonetwork.co.uk/london-networking-events/1071/2017/03/17/how-a-client-nearly-lost-750-000
DESCRIPTION:Lucidica is the IT company for small businesses. We Support SMEs with all things technology including servers, consulting, hosting and CRM. Based in Shoreditch, we regularly host seminars on topics relevant to London&#039;s business community.
END:VEVENT
END:VCALENDAR