BEGIN:VCALENDAR
VERSION:2.0
PRODID:-//Urbanonetwork//NONSGML v1.0//EN
METHOD:PUBLISH
BEGIN:VEVENT
UID:urbanonetwork-event-109
DTSTAMP:20120411T170000Z
ORGANIZER;CN=Jack Haines:MAILTO:j.haines@westminsterbc.org.uk
STATUS:CONFIRMED
DTSTART:20120411T170000Z
DTEND:20120411T190000Z
LAST-MODIFIED:20161224T191403Z
LOCATION:MWB Regent Street, Liberty House, 222 Regent Street, London, W1B 5TR
SUMMARY:WBC Workshop-The Secret of Sales with Bob Etherington
URL:https://www.urbanonetwork.co.uk/london-networking-events/109/2012/04/11/wbc-workshop-the-secret-of-sales-with-bob-etherington
DESCRIPTION:The real secrets of selling anything to anyone in hard times (without cutting your price).
END:VEVENT
END:VCALENDAR