BEGIN:VCALENDAR
VERSION:2.0
PRODID:-//Urbanonetwork//NONSGML v1.0//EN
METHOD:PUBLISH
BEGIN:VEVENT
UID:urbanonetwork-event-1096
DTSTAMP:20170420T073000Z
ORGANIZER;CN=Kay Merryman:MAILTO:kmerryman@abggroup.co.uk
STATUS:CONFIRMED
DTSTART:20170420T073000Z
DTEND:20170420T093000Z
LAST-MODIFIED:20170406T134354Z
LOCATION:Arram Berlyn Gardner (ABG), Arram Berlyn Gardner, London, EC1Y 2AB
SUMMARY:Tax planning tips for business owners and entrepreneurs
URL:https://www.urbanonetwork.co.uk/london-networking-events/1096/2017/04/20/tax-planning-tips-for-business-owners-and-entrepreneurs
DESCRIPTION:Arram Berlyn Gardner is a multi award winning UK top 60 firm of Chartered Accountants, Auditors, Tax and Business advisers. &amp;nbsp;We act for SME&amp;rsquo;s, entrepreneurs, established and growing businesses as well as high net worth individuals across all in
END:VEVENT
END:VCALENDAR