BEGIN:VCALENDAR
VERSION:2.0
PRODID:-//Urbanonetwork//NONSGML v1.0//EN
METHOD:PUBLISH
BEGIN:VEVENT
UID:urbanonetwork-event-1098
DTSTAMP:20170427T113000Z
ORGANIZER;CN=Susan Kench:MAILTO:susan@linkedintutors.com
STATUS:CONFIRMED
DTSTART:20170427T113000Z
DTEND:20170427T133000Z
LAST-MODIFIED:20170406T153615Z
LOCATION:Marshall Walker Associates, 73 Cornhill, London, EC3V 3QQ
SUMMARY:Using LinkedIn as a business development &amp; marketing tool
URL:https://www.urbanonetwork.co.uk/london-networking-events/1098/2017/04/27/using-linkedin-as-a-business-development-marketing-tool
DESCRIPTION:Are you using LinkedIn to build your business?
END:VEVENT
END:VCALENDAR