BEGIN:VCALENDAR
VERSION:2.0
PRODID:-//Urbanonetwork//NONSGML v1.0//EN
METHOD:PUBLISH
BEGIN:VEVENT
UID:urbanonetwork-event-1104
DTSTAMP:20170413T083000Z
ORGANIZER;CN=Emma Savory:MAILTO:emma.savory@lucidica.com
STATUS:CONFIRMED
DTSTART:20170413T083000Z
DTEND:20170413T103000Z
LAST-MODIFIED:20170411T103505Z
LOCATION:Accelerator Building, 35 Kingsland Road, London, E2 8AA
SUMMARY:THE Business Cyber Security Awareness Course
URL:https://www.urbanonetwork.co.uk/london-networking-events/1104/2017/04/13/the-business-cyber-security-awareness-course
DESCRIPTION:Lucidica is the IT company for small businesses. We Support SMEs with all things technology including servers, consulting, hosting and CRM. Based in Shoreditch, we regularly host seminars on topics relevant to London&#039;s business community.
END:VEVENT
END:VCALENDAR