BEGIN:VCALENDAR
VERSION:2.0
PRODID:-//Urbanonetwork//NONSGML v1.0//EN
METHOD:PUBLISH
BEGIN:VEVENT
UID:urbanonetwork-event-1128
DTSTAMP:20170726T113000Z
ORGANIZER;CN=Mark Herring:MAILTO:mark@urbanonetwork.co.uk
STATUS:CONFIRMED
DTSTART:20170726T113000Z
DTEND:20170726T133000Z
LAST-MODIFIED:20170726T140951Z
LOCATION:Gem Bar Soho, 10 Beak Street, London, W1F 9RA
SUMMARY:London Networking Event - Media Networking Lunch in Soho
URL:https://www.urbanonetwork.co.uk/london-networking-events/1128/2017/07/26/london-networking-event-media-networking-lunch-event-in-soho
DESCRIPTION:Urbano Media Networking lunch at Gem Bar - a trendy venue tucked away at the edge of Carnaby Street in Soho
END:VEVENT
END:VCALENDAR