BEGIN:VCALENDAR
VERSION:2.0
PRODID:-//Urbanonetwork//NONSGML v1.0//EN
METHOD:PUBLISH
BEGIN:VEVENT
UID:urbanonetwork-event-1129
DTSTAMP:20170512T180000Z
ORGANIZER;CN=Julia Lambeth:MAILTO:info@southlondonwineschool.com
STATUS:CONFIRMED
DTSTART:20170512T180000Z
DTEND:20170512T200000Z
LAST-MODIFIED:20170505T134103Z
LOCATION:The Mitre, Greenwich, 291 Greenwich High Road, London, Se10 8NA
SUMMARY:Craft Beer Tasting and Food Matching
URL:https://www.urbanonetwork.co.uk/london-networking-events/1129/2017/05/12/craft-beer-tasting-and-food-matching
DESCRIPTION:This is one for the beer drinkers out there! Anyone who has a passing interest in beer can&amp;rsquo;t help but have noticed the explosion of breweries and beer styles in the UK over the last few years. Most pubs now have a wider selection of cask and bottle 
END:VEVENT
END:VCALENDAR