BEGIN:VCALENDAR
VERSION:2.0
PRODID:-//Urbanonetwork//NONSGML v1.0//EN
METHOD:PUBLISH
BEGIN:VEVENT
UID:urbanonetwork-event-1132
DTSTAMP:20170630T090000Z
ORGANIZER;CN=Hannah Woolridge:MAILTO:hwoolridge@spec.digital
STATUS:CONFIRMED
DTSTART:20170630T090000Z
DTEND:20170630T110000Z
LAST-MODIFIED:20170614T084306Z
LOCATION:Huckletree, Alphabeta Building, 18 Finsbury Square, London, EC2A 1AH
SUMMARY:SEO Your Own Website - London Training, 30th June (Urbano Discount Code - £40 off!)
URL:https://www.urbanonetwork.co.uk/london-networking-events/1132/2017/06/30/seo-your-own-website-london-training-30th-june-urbano-discount-code-40-off
DESCRIPTION:Learn the Search Engine Optimisation (SEO) Basics In 4 Hours
END:VEVENT
END:VCALENDAR