BEGIN:VCALENDAR
VERSION:2.0
PRODID:-//Urbanonetwork//NONSGML v1.0//EN
METHOD:PUBLISH
BEGIN:VEVENT
UID:urbanonetwork-event-1158
DTSTAMP:20170613T071500Z
ORGANIZER;CN=Eleanor King:MAILTO:eleanor@responsible-solutions.co.uk
STATUS:CONFIRMED
DTSTART:20170613T071500Z
DTEND:20170613T091500Z
LAST-MODIFIED:20170531T101958Z
LOCATION:Chesterfield Golf Club, Chesterfield Golf Club, Chesterfield, S42 7LA
SUMMARY:HR Forum - Employment Law Update (East Midlands Chamber)
URL:https://www.urbanonetwork.co.uk/london-networking-events/1158/2017/06/13/hr-forum-employment-law-update-east-midlands-chamber
DESCRIPTION:This East Midlands Chamber HR Forum is run in partnership with BRM Solicitors and provides a &amp;nbsp;platform for HR professionals to share experiences, knowledge, ideas, and to discuss mutual issues and problems, creating a hub supporting best practice.&amp;nb
END:VEVENT
END:VCALENDAR