BEGIN:VCALENDAR
VERSION:2.0
PRODID:-//Urbanonetwork//NONSGML v1.0//EN
METHOD:PUBLISH
BEGIN:VEVENT
UID:urbanonetwork-event-1166
DTSTAMP:20170620T073000Z
ORGANIZER;CN=Kirstin Stewart:MAILTO:KStewart@kingstonsmith.co.uk
STATUS:CONFIRMED
DTSTART:20170620T073000Z
DTEND:20170620T093000Z
LAST-MODIFIED:20170601T103722Z
LOCATION:Kingston Smith West End, Charlotte Building, 17 Gresse Street, london, W1T 1QL
SUMMARY:‘Survivor to Thriver’ – How does an agency substantially improve its performance?
URL:https://www.urbanonetwork.co.uk/london-networking-events/1166/2017/06/20/survivor-to-thriver-how-does-an-agency-substantially-improve-its-performance
DESCRIPTION:We, together with Chris Merrington of&amp;nbsp;Spring 80:20, are delighted to be launching the follow-on to our 2012 &amp;lsquo;Fortune Favours the Brave&amp;rsquo; report &amp;ndash; &amp;lsquo;Survivor to Thriver&amp;rsquo;. On 26 April we hosted the launch seminar, where we e
END:VEVENT
END:VCALENDAR