BEGIN:VCALENDAR
VERSION:2.0
PRODID:-//Urbanonetwork//NONSGML v1.0//EN
METHOD:PUBLISH
BEGIN:VEVENT
UID:urbanonetwork-event-1170
DTSTAMP:20170907T070000Z
ORGANIZER;CN=Mark Herring:MAILTO:mark@urbanonetwork.co.uk
STATUS:CONFIRMED
DTSTART:20170907T070000Z
DTEND:20170907T090000Z
LAST-MODIFIED:20170906T113152Z
LOCATION:Katten Muchin Rosenman LLP, Paternoster House, London, EC4M 8AB
SUMMARY:Urbano Build Networking Breakfast Event with RIBA President Ben Derbyshire
URL:https://www.urbanonetwork.co.uk/london-networking-events/1170/2017/09/07/urbano-build-networking-breakfast-event-with-riba-president-ben-derbyshire
DESCRIPTION:Urbano Build networking breakfast event in London with RIBA President Elect Ben Derbyshire.
END:VEVENT
END:VCALENDAR