BEGIN:VCALENDAR
VERSION:2.0
PRODID:-//Urbanonetwork//NONSGML v1.0//EN
METHOD:PUBLISH
BEGIN:VEVENT
UID:urbanonetwork-event-1224
DTSTAMP:20170913T160000Z
ORGANIZER;CN=Jade Dribble:MAILTO:jadedribble@beatone.co.uk
STATUS:CONFIRMED
DTSTART:20170913T160000Z
DTEND:20170913T180000Z
LAST-MODIFIED:20170824T134901Z
LOCATION:Be At One Camden, 55 Camden High Street, London, NW1 7JH
SUMMARY:Be At One Camden Christmas Showcase
URL:https://www.urbanonetwork.co.uk/london-networking-events/1224/2017/09/13/be-at-one-camden-christmas-showcase
DESCRIPTION:
END:VEVENT
END:VCALENDAR