BEGIN:VCALENDAR
VERSION:2.0
PRODID:-//Urbanonetwork//NONSGML v1.0//EN
METHOD:PUBLISH
BEGIN:VEVENT
UID:urbanonetwork-event-1232
DTSTAMP:20170918T163000Z
ORGANIZER;CN=Alice Ware:MAILTO:Alice@mintleafrestaurant.com
STATUS:CONFIRMED
DTSTART:20170918T163000Z
DTEND:20170918T183000Z
LAST-MODIFIED:20170905T160244Z
LOCATION:Mint Leaf Restaurant, Suffolk Place, London, SW1Y 4HX
SUMMARY:Mint Leaf Christmas Showcase
URL:https://www.urbanonetwork.co.uk/london-networking-events/1232/2017/09/18/mint-leaf-christmas-showcase
DESCRIPTION:It is ALMOST approaching that time of year again to get your Christmas party booked.&amp;nbsp;
END:VEVENT
END:VCALENDAR