BEGIN:VCALENDAR
VERSION:2.0
PRODID:-//Urbanonetwork//NONSGML v1.0//EN
METHOD:PUBLISH
BEGIN:VEVENT
UID:urbanonetwork-event-1233
DTSTAMP:20171107T093000Z
ORGANIZER;CN=Robert Adam:MAILTO:robert@represent.co.uk
STATUS:CONFIRMED
DTSTART:20171107T093000Z
DTEND:20171107T113000Z
LAST-MODIFIED:20171023T094147Z
LOCATION:Wallacespace, 2 Dryden St, London, WC2E 9NA
SUMMARY:The ILM Coach Practitioner Programme
URL:https://www.urbanonetwork.co.uk/london-networking-events/1233/2017/11/07/the-ilm-coach-practitioner-programme
DESCRIPTION:Due to the success of our two previous&amp;nbsp;Coach Practioner Programmes, we are looking to run a further ILM level 5 Coach Practioner Programme.
END:VEVENT
END:VCALENDAR