BEGIN:VCALENDAR
VERSION:2.0
PRODID:-//Urbanonetwork//NONSGML v1.0//EN
METHOD:PUBLISH
BEGIN:VEVENT
UID:urbanonetwork-event-1238
DTSTAMP:20171026T180000Z
ORGANIZER;CN=Julia Lambeth:MAILTO:info@southlondonwineschool.com
STATUS:CONFIRMED
DTSTART:20171026T180000Z
DTEND:20171026T200000Z
LAST-MODIFIED:20170906T164650Z
LOCATION:The Mitre, Greenwich, 291 Greenwich High Road, London, Se10 8NA
SUMMARY:Wine Tasting: Spain, Portugal and Italy
URL:https://www.urbanonetwork.co.uk/london-networking-events/1238/2017/10/26/wine-tasting-spain-portugal-and-italy
DESCRIPTION:Welcome to an evening of Southern European delights!
END:VEVENT
END:VCALENDAR