BEGIN:VCALENDAR
VERSION:2.0
PRODID:-//Urbanonetwork//NONSGML v1.0//EN
METHOD:PUBLISH
BEGIN:VEVENT
UID:urbanonetwork-event-1246
DTSTAMP:20171011T110000Z
ORGANIZER;CN=Lianne Lambert:MAILTO:lianne@lighter-hr-solutions.co.uk
STATUS:CONFIRMED
DTSTART:20171011T110000Z
DTEND:20171011T130000Z
LAST-MODIFIED:20170919T163654Z
LOCATION:Clements House, 27 Clements Lane, London, EC4N 7AE
SUMMARY:Where is everyone? - Managing Employee Absence
URL:https://www.urbanonetwork.co.uk/london-networking-events/1246/2017/10/11/where-is-everyone-managing-employee-absence
DESCRIPTION:Managing employee absence can be a real challenge. &amp;nbsp;There&#039;s the desire to demonstrate a degree of compassion and understanding but there&#039;s a significant impact on businesses when employees take a lot of time off sick. &amp;nbsp;There&#039;s then the added com
END:VEVENT
END:VCALENDAR