BEGIN:VCALENDAR
VERSION:2.0
PRODID:-//Urbanonetwork//NONSGML v1.0//EN
METHOD:PUBLISH
BEGIN:VEVENT
UID:urbanonetwork-event-1265
DTSTAMP:20171116T100000Z
ORGANIZER;CN=Shineice Kaur:MAILTO:shineice.kaur@prysmgroup.co.uk
STATUS:CONFIRMED
DTSTART:20171116T100000Z
DTEND:20171116T120000Z
LAST-MODIFIED:20171117T102107Z
LOCATION:Olympia London, Hammersmith Road, London, W14 8UX
SUMMARY:The Business Show 2017
URL:https://www.urbanonetwork.co.uk/london-networking-events/1265/2017/11/16/the-business-show-2017
DESCRIPTION:
END:VEVENT
END:VCALENDAR