BEGIN:VCALENDAR
VERSION:2.0
PRODID:-//Urbanonetwork//NONSGML v1.0//EN
METHOD:PUBLISH
BEGIN:VEVENT
UID:urbanonetwork-event-1275
DTSTAMP:20171116T083000Z
ORGANIZER;CN=Chris Lane:MAILTO:Chris.Lane@mackrell.com
STATUS:CONFIRMED
DTSTART:20171116T083000Z
DTEND:20171116T103000Z
LAST-MODIFIED:20171031T125502Z
LOCATION:Mackrell Turner Garrett Solicitors, Mackrell Turner Garrett, London, WC2R 0BU
SUMMARY:CPD Seminar - The Do’s &amp; Don’ts of Commercial Contracts
URL:https://www.urbanonetwork.co.uk/london-networking-events/1275/2017/11/16/cpd-seminar-the-do-s-don-ts-of-commercial-contracts
DESCRIPTION:Following on from the success of our previous Directors&amp;rsquo; Briefings, we are holding another briefing on 16 November 2017, which will provide an overview of commercial contracts, their formation and some of their key terms for Directors and Senior Man
END:VEVENT
END:VCALENDAR