BEGIN:VCALENDAR
VERSION:2.0
PRODID:-//Urbanonetwork//NONSGML v1.0//EN
METHOD:PUBLISH
BEGIN:VEVENT
UID:urbanonetwork-event-1277
DTSTAMP:20171124T100000Z
ORGANIZER;CN=Rob Boll:MAILTO:rob@evokemanagement.co.uk
STATUS:CONFIRMED
DTSTART:20171124T100000Z
DTEND:20171124T120000Z
LAST-MODIFIED:20171102T231433Z
LOCATION:WeWork Moorgate, 1 Fore Street, London, EC2Y 9DT
SUMMARY:Evoke Management - Virtual Board
URL:https://www.urbanonetwork.co.uk/london-networking-events/1277/2017/11/24/evoke-management-virtual-board
DESCRIPTION:Evoke Management&#039;s Virtual Board
END:VEVENT
END:VCALENDAR