BEGIN:VCALENDAR
VERSION:2.0
PRODID:-//Urbanonetwork//NONSGML v1.0//EN
METHOD:PUBLISH
BEGIN:VEVENT
UID:urbanonetwork-event-1283
DTSTAMP:20171206T083000Z
ORGANIZER;CN=Kirstin Stewart:MAILTO:KStewart@kingstonsmith.co.uk
STATUS:CONFIRMED
DTSTART:20171206T083000Z
DTEND:20171206T103000Z
LAST-MODIFIED:20171116T171852Z
LOCATION:Devonshire House, 60 Goswell Road, London, EC1M 7AD
SUMMARY:Everything you need to know on employee contracts
URL:https://www.urbanonetwork.co.uk/london-networking-events/1283/2017/12/06/everything-you-need-to-know-on-employee-contracts
DESCRIPTION:At this Client Value Breakfast, Amy Cretten and Donal Moon from Kingston Smith HR Consultancy will take you through everything you need to know on employer contracts whilst also looking at common shortfalls that often catch employers out.&amp;nbsp; Key focuse
END:VEVENT
END:VCALENDAR