BEGIN:VCALENDAR
VERSION:2.0
PRODID:-//Urbanonetwork//NONSGML v1.0//EN
METHOD:PUBLISH
BEGIN:VEVENT
UID:urbanonetwork-event-1305
DTSTAMP:20180213T180000Z
ORGANIZER;CN=Emma Savory:MAILTO:emma.savory@lucidica.com
STATUS:CONFIRMED
DTSTART:20180213T180000Z
DTEND:20180213T200000Z
LAST-MODIFIED:20180105T110136Z
LOCATION:Accelerator Building, 35 Kingsland Road, London, E2 8AA
SUMMARY:Gin + GDPR
URL:https://www.urbanonetwork.co.uk/london-networking-events/1305/2018/02/13/gin-gdpr
DESCRIPTION:GDPR- the word on every businesses lips.&amp;nbsp;
END:VEVENT
END:VCALENDAR