BEGIN:VCALENDAR
VERSION:2.0
PRODID:-//Urbanonetwork//NONSGML v1.0//EN
METHOD:PUBLISH
BEGIN:VEVENT
UID:urbanonetwork-event-1319
DTSTAMP:20180123T094500Z
ORGANIZER;CN=Aaron Budwal:MAILTO:ABudwal@kingstonsmith.co.uk
STATUS:CONFIRMED
DTSTART:20180123T094500Z
DTEND:20180123T114500Z
LAST-MODIFIED:20180109T152511Z
LOCATION:Kingston Smith LLP, Charlotte Building, 17 Gresse Street, London, W1T 1QL
SUMMARY:GDPR – friend or foe for media businesses?
URL:https://www.urbanonetwork.co.uk/london-networking-events/1319/2018/01/23/gdpr-friend-or-foe-for-media-businesses
DESCRIPTION:The new GDPR comes in to force in just over four months and there&amp;rsquo;s a lot for media businesses to think about and prepare. Agencies can hold vast amounts of data for and on behalf of their clients, which puts the industry in the direct line of fire.
END:VEVENT
END:VCALENDAR