BEGIN:VCALENDAR
VERSION:2.0
PRODID:-//Urbanonetwork//NONSGML v1.0//EN
METHOD:PUBLISH
BEGIN:VEVENT
UID:urbanonetwork-event-1341
DTSTAMP:20180208T173000Z
ORGANIZER;CN=Claire Corlett:MAILTO:claire.corlett@lochlaw.co.uk
STATUS:CONFIRMED
DTSTART:20180208T173000Z
DTEND:20180208T193000Z
LAST-MODIFIED:20180130T110845Z
LOCATION:De Vere West One, 9-10 Portland Place, London, W1B 1PR
SUMMARY:Gin  &amp; GDPR
URL:https://www.urbanonetwork.co.uk/london-networking-events/1341/2018/02/08/gin-gdpr
DESCRIPTION:Join Pam Loch and the team from Loch Associates Group for a bitesized guide to the General Data Protection Regulation with some Gin thrown in.
END:VEVENT
END:VCALENDAR