BEGIN:VCALENDAR
VERSION:2.0
PRODID:-//Urbanonetwork//NONSGML v1.0//EN
METHOD:PUBLISH
BEGIN:VEVENT
UID:urbanonetwork-event-1342
DTSTAMP:20180214T000000Z
ORGANIZER;CN=Stuart George:MAILTO:stuart@stuartgeorge.net
STATUS:CONFIRMED
DTSTART:20180214T000000Z
DTEND:20180214T020000Z
LAST-MODIFIED:20180131T154917Z
LOCATION:50 Brook Street, 50 Brook Street, London, W1K 5DR
SUMMARY:&quot;Chips&quot; and Wine - Poker Night for singles!
URL:https://www.urbanonetwork.co.uk/london-networking-events/1342/2018/02/14/chips-and-wine-poker-night-for-singles
DESCRIPTION:Call yourself lucky? Tonight might just be your night...
END:VEVENT
END:VCALENDAR