BEGIN:VCALENDAR
VERSION:2.0
PRODID:-//Urbanonetwork//NONSGML v1.0//EN
METHOD:PUBLISH
BEGIN:VEVENT
UID:urbanonetwork-event-1344
DTSTAMP:20180214T120000Z
ORGANIZER;CN=Elina Khaimova:MAILTO:Elina@mintleafrestaurant.com
STATUS:CONFIRMED
DTSTART:20180214T120000Z
DTEND:20180214T140000Z
LAST-MODIFIED:20180131T160947Z
LOCATION:Mint Leaf Restaurant, Suffolk Place, London, SW1Y 4HX
SUMMARY:Treat your loved one at Mint Leaf (Lunch/ Dinner)
URL:https://www.urbanonetwork.co.uk/london-networking-events/1344/2018/02/14/treat-your-loved-one-at-mint-leaf-lunch-dinner
DESCRIPTION:With Valentine&amp;rsquo;s Day around the corner, you and your loved one are invited to Mint Leaf. Their mouth-watering four course Valentine&#039;s Day menu&amp;nbsp;for&amp;nbsp;&amp;pound;55 per person&amp;nbsp;includes non-vegetarian and vegetarian dishes and features a delic
END:VEVENT
END:VCALENDAR