BEGIN:VCALENDAR
VERSION:2.0
PRODID:-//Urbanonetwork//NONSGML v1.0//EN
METHOD:PUBLISH
BEGIN:VEVENT
UID:urbanonetwork-event-1356
DTSTAMP:20180315T083000Z
ORGANIZER;CN=Kay Merryman:MAILTO:kmerryman@abggroup.co.uk
STATUS:CONFIRMED
DTSTART:20180315T083000Z
DTEND:20180315T103000Z
LAST-MODIFIED:20180213T105510Z
LOCATION:Arram Berlyn Gardner (ABG), Arram Berlyn Gardner, London, EC1Y 2AB
SUMMARY:2018 Spring Statement &amp; Pre 5 April tax planning
URL:https://www.urbanonetwork.co.uk/london-networking-events/1356/2018/03/15/2018-spring-statement-pre-5-april-tax-planning
DESCRIPTION:We invite you to join us and our Tax Partner, Victor Dauppe, on 15 March 2018 when we will be providing an overview of the first Spring Statement and at the same time taking a look at any pre 5 April tax planning opportunities that might exist for you and
END:VEVENT
END:VCALENDAR