BEGIN:VCALENDAR
VERSION:2.0
PRODID:-//Urbanonetwork//NONSGML v1.0//EN
METHOD:PUBLISH
BEGIN:VEVENT
UID:urbanonetwork-event-1366
DTSTAMP:20180309T091500Z
ORGANIZER;CN=Ben Lange:MAILTO:ben.lange@sandler.com
STATUS:CONFIRMED
DTSTART:20180309T091500Z
DTEND:20180309T111500Z
LAST-MODIFIED:20180301T111402Z
LOCATION:Garden Studios, 71-75 Shelton Street  Covent Garden  London WC2H 9JQ, London, WC2H 9JQ
SUMMARY:Senior Director Sales Seminar
URL:https://www.urbanonetwork.co.uk/london-networking-events/1366/2018/03/09/senior-director-sales-seminar
DESCRIPTION:Exclusively for ambitious CEO&#039;s, and business directors who face these types of challenges:
END:VEVENT
END:VCALENDAR