BEGIN:VCALENDAR
VERSION:2.0
PRODID:-//Urbanonetwork//NONSGML v1.0//EN
METHOD:PUBLISH
BEGIN:VEVENT
UID:urbanonetwork-event-1367
DTSTAMP:20180621T133000Z
ORGANIZER;CN=Tessa Chesney:MAILTO:tessa.chesney@ignite.co.uk
STATUS:CONFIRMED
DTSTART:20180621T133000Z
DTEND:20180621T153000Z
LAST-MODIFIED:20180503T124133Z
LOCATION:Gamma&#039;s Offices, 6th Floor, Holland House, London, EC3A 5AW
SUMMARY:The Future of Telecoms! Cloud Solutions Explained
URL:https://www.urbanonetwork.co.uk/london-networking-events/1367/2018/06/21/the-future-of-telecoms-cloud-solutions-explained
DESCRIPTION:Cloud-Based Telephony is fast-becoming&amp;nbsp;the service of choice for many businesses so why not come along and find out how this service can help to support your business&#039; growth and streamline your communictaions!
END:VEVENT
END:VCALENDAR