BEGIN:VCALENDAR
VERSION:2.0
PRODID:-//Urbanonetwork//NONSGML v1.0//EN
METHOD:PUBLISH
BEGIN:VEVENT
UID:urbanonetwork-event-1370
DTSTAMP:20180412T113000Z
ORGANIZER;CN=Susan Kench:MAILTO:susan@linkedintutors.com
STATUS:CONFIRMED
DTSTART:20180412T113000Z
DTEND:20180412T133000Z
LAST-MODIFIED:20180406T071402Z
LOCATION:Marshall Walker Associates, 73 Cornhill, London, EC3V 3QQ
SUMMARY:Using LinkedIn as a business development &amp; marketing tool
URL:https://www.urbanonetwork.co.uk/london-networking-events/1370/2018/04/12/using-linkedin-as-a-business-development-marketing-tool
DESCRIPTION:Are you using LinkedIn to build your business?
END:VEVENT
END:VCALENDAR