BEGIN:VCALENDAR
VERSION:2.0
PRODID:-//Urbanonetwork//NONSGML v1.0//EN
METHOD:PUBLISH
BEGIN:VEVENT
UID:urbanonetwork-event-1381
DTSTAMP:20180425T180000Z
ORGANIZER;CN=Julia Lambeth:MAILTO:info@southlondonwineschool.com
STATUS:CONFIRMED
DTSTART:20180425T180000Z
DTEND:20180425T200000Z
LAST-MODIFIED:20180322T114830Z
LOCATION:The Mitre, Greenwich, 291 Greenwich High Road, London, Se10 8NA
SUMMARY:Wine Tasting - Rhone Valley Masterclass!
URL:https://www.urbanonetwork.co.uk/london-networking-events/1381/2018/04/25/wine-tasting-rhone-valley-masterclass
DESCRIPTION:The excellent Rhone Valley Masterclass is back for 2018! Last year&#039;s event was a huge succes featuring some top wines from some lesser known parts of the Rhone and expert guidance from our Rhone expert Linda.
END:VEVENT
END:VCALENDAR