BEGIN:VCALENDAR
VERSION:2.0
PRODID:-//Urbanonetwork//NONSGML v1.0//EN
METHOD:PUBLISH
BEGIN:VEVENT
UID:urbanonetwork-event-1385
DTSTAMP:20180524T080000Z
ORGANIZER;CN=Tamara Woodhouse:MAILTO:t.woodhouse@ashfords.co.uk
STATUS:CONFIRMED
DTSTART:20180524T080000Z
DTEND:20180524T100000Z
LAST-MODIFIED:20180426T080237Z
LOCATION:Ashfords LLP, 1 New Fetter Lane, London, EC4A 1AN
SUMMARY:HR Breakfast Masterclass
URL:https://www.urbanonetwork.co.uk/london-networking-events/1385/2018/05/24/hr-breakfast-masterclass
DESCRIPTION:Please join us for an Employment Law Masterclass focussing on the most relevant issues of the moment.
END:VEVENT
END:VCALENDAR