BEGIN:VCALENDAR
VERSION:2.0
PRODID:-//Urbanonetwork//NONSGML v1.0//EN
METHOD:PUBLISH
BEGIN:VEVENT
UID:urbanonetwork-event-1393
DTSTAMP:20180628T070000Z
ORGANIZER;CN=Beth Saggers:MAILTO:bethsaggers@bdb-law.co.uk
STATUS:CONFIRMED
DTSTART:20180628T070000Z
DTEND:20180628T090000Z
LAST-MODIFIED:20180612T155234Z
LOCATION:BDB Pitmans - London, One, Bartholomew Close, London, EC1A 7BA
SUMMARY:Business Breakfast with Tony Meggs
URL:https://www.urbanonetwork.co.uk/london-networking-events/1393/2018/06/28/business-breakfast-with-tony-meggs
DESCRIPTION:Bircham Dyson Bell invite you to a Business Breakfast with&amp;nbsp;Tony Meggs, Chief Executive of the Infrastructure and Projects Authority (IPA).
END:VEVENT
END:VCALENDAR