BEGIN:VCALENDAR
VERSION:2.0
PRODID:-//Urbanonetwork//NONSGML v1.0//EN
METHOD:PUBLISH
BEGIN:VEVENT
UID:urbanonetwork-event-1429
DTSTAMP:20180712T113000Z
ORGANIZER;CN=Susan Kench:MAILTO:susan@linkedintutors.com
STATUS:CONFIRMED
DTSTART:20180712T113000Z
DTEND:20180712T133000Z
LAST-MODIFIED:20180611T122114Z
LOCATION:Marshall Walker Associates, 73 Cornhill, London, EC3V 3QQ
SUMMARY:Using LinkedIn as a Business Development &amp; Marketing Tool
URL:https://www.urbanonetwork.co.uk/london-networking-events/1429/2018/07/12/using-linkedin-as-a-business-development-marketing-tool
DESCRIPTION:Are you using LinkedIn to build your business?
END:VEVENT
END:VCALENDAR