BEGIN:VCALENDAR
VERSION:2.0
PRODID:-//Urbanonetwork//NONSGML v1.0//EN
METHOD:PUBLISH
BEGIN:VEVENT
UID:urbanonetwork-event-1434
DTSTAMP:20180628T090000Z
ORGANIZER;CN=Geraldine Lupton:MAILTO:glupton@farnhamcastle.com
STATUS:CONFIRMED
DTSTART:20180628T090000Z
DTEND:20180628T110000Z
LAST-MODIFIED:20180620T085019Z
LOCATION:Farnham Castle, Farnham, Surrey, GU9 0AG
SUMMARY:Open Workshop: International Client Service
URL:https://www.urbanonetwork.co.uk/london-networking-events/1434/2018/06/28/open-workshop-international-client-service
DESCRIPTION:When providing International Client Services, it is vital to understand that different cultures experience the same situation according to their own cultural values.
END:VEVENT
END:VCALENDAR