BEGIN:VCALENDAR
VERSION:2.0
PRODID:-//Urbanonetwork//NONSGML v1.0//EN
METHOD:PUBLISH
BEGIN:VEVENT
UID:urbanonetwork-event-144
DTSTAMP:20120912T170000Z
ORGANIZER;CN=Mark Herring:MAILTO:mark@urbanonetwork.co.uk
STATUS:CONFIRMED
DTSTART:20120912T170000Z
DTEND:20120912T190000Z
LAST-MODIFIED:20161224T191404Z
LOCATION:The Yacht London, Temple Pier, Victoria Embankment, London, WC2R 2PN
SUMMARY:Urbano networking evening event
URL:https://www.urbanonetwork.co.uk/london-networking-events/144/2012/09/12/urbano-networking-evening-event
DESCRIPTION:Our September networking evening will be hosted by The Yacht London on Wednesday September 12th, moored on The Thames between Temple and Embankment.
END:VEVENT
END:VCALENDAR