BEGIN:VCALENDAR
VERSION:2.0
PRODID:-//Urbanonetwork//NONSGML v1.0//EN
METHOD:PUBLISH
BEGIN:VEVENT
UID:urbanonetwork-event-1462
DTSTAMP:20180911T090000Z
ORGANIZER;CN=Emma Savory:MAILTO:emma.savory@lucidica.com
STATUS:CONFIRMED
DTSTART:20180911T090000Z
DTEND:20180911T110000Z
LAST-MODIFIED:20180806T145500Z
LOCATION:Accelerator Building, 35 Kingsland Road, London, E2 8AA
SUMMARY:Planning a Website in 2 Hours
URL:https://www.urbanonetwork.co.uk/london-networking-events/1462/2018/09/11/planning-a-website-in-2-hours
DESCRIPTION:Lucidica are an IT Support Company based in Shoreditch, London. We have a Web and Marketing department who help SME&#039;s create and improve their website with a personalised and affordable service. In this session, our Marketing and Web Manager Emma and our 
END:VEVENT
END:VCALENDAR