BEGIN:VCALENDAR
VERSION:2.0
PRODID:-//Urbanonetwork//NONSGML v1.0//EN
METHOD:PUBLISH
BEGIN:VEVENT
UID:urbanonetwork-event-1479
DTSTAMP:20181003T170000Z
ORGANIZER;CN=Helena King:MAILTO:helenaking.contact@gmail.com
STATUS:CONFIRMED
DTSTART:20181003T170000Z
DTEND:20181003T190000Z
LAST-MODIFIED:20180917T145505Z
LOCATION:Rich Mix, 35-47, Bethnal Green Road, London, E1 6LA
SUMMARY:Network Off the Grid in Shoreditch
URL:https://www.urbanonetwork.co.uk/london-networking-events/1479/2018/10/03/network-off-the-grid-in-shoreditch
DESCRIPTION:We&#039;d love for you to join us for an exclusive networking event at Rich Mix.
END:VEVENT
END:VCALENDAR