BEGIN:VCALENDAR
VERSION:2.0
PRODID:-//Urbanonetwork//NONSGML v1.0//EN
METHOD:PUBLISH
BEGIN:VEVENT
UID:urbanonetwork-event-1483
DTSTAMP:20181002T083000Z
ORGANIZER;CN=Adrian Slatter:MAILTO:aslatter@vectorworks.net
STATUS:CONFIRMED
DTSTART:20181002T083000Z
DTEND:20181002T103000Z
LAST-MODIFIED:20180921T102752Z
LOCATION:Cavendish Conference Centre, 22 Duchess Mews, London, W1G 9DT
SUMMARY:Vectorworks BIM Level 2 Design Day
URL:https://www.urbanonetwork.co.uk/london-networking-events/1483/2018/10/02/vecetorworks-bim-level2-design-day
DESCRIPTION:Join us for our Vectorworks&amp;rsquo; Annual Design Day on 2 October 2018 at the Cavendish Conference Centre in London, W1G 9DT.
END:VEVENT
END:VCALENDAR