BEGIN:VCALENDAR
VERSION:2.0
PRODID:-//Urbanonetwork//NONSGML v1.0//EN
METHOD:PUBLISH
BEGIN:VEVENT
UID:urbanonetwork-event-1509
DTSTAMP:20181213T123000Z
ORGANIZER;CN=Susan Kench:MAILTO:susan@linkedintutors.com
STATUS:CONFIRMED
DTSTART:20181213T123000Z
DTEND:20181213T143000Z
LAST-MODIFIED:20181113T142624Z
LOCATION:Marshall Walker, 73 Cornhill, London, EC3V 3QQ
SUMMARY:Using LinkedIn as a Business Development &amp; Marketing Tool
URL:https://www.urbanonetwork.co.uk/london-networking-events/1509/2018/12/13/using-linkedin-as-a-business-development-marketing-tool
DESCRIPTION:Are you using LinkedIn to build your business?
END:VEVENT
END:VCALENDAR