BEGIN:VCALENDAR
VERSION:2.0
PRODID:-//Urbanonetwork//NONSGML v1.0//EN
METHOD:PUBLISH
BEGIN:VEVENT
UID:urbanonetwork-event-1558
DTSTAMP:20190313T091500Z
ORGANIZER;CN=Ben Lange:MAILTO:ben.lange@sandler.com
STATUS:CONFIRMED
DTSTART:20190313T091500Z
DTEND:20190313T111500Z
LAST-MODIFIED:20190304T095756Z
LOCATION:Garden Studios, 71-75 Shelton Street  Covent Garden  London WC2H 9JQ, London, WC2H 9JQ
SUMMARY:Sandler Enterprise Selling Workshop
URL:https://www.urbanonetwork.co.uk/london-networking-events/1558/2019/03/13/sandler-enterprise-selling-workshop
DESCRIPTION:Are you looking to find, win, keep and grow large enterprise accounts?&amp;nbsp;
END:VEVENT
END:VCALENDAR