BEGIN:VCALENDAR
VERSION:2.0
PRODID:-//Urbanonetwork//NONSGML v1.0//EN
METHOD:PUBLISH
BEGIN:VEVENT
UID:urbanonetwork-event-1574
DTSTAMP:20190528T083000Z
ORGANIZER;CN=Ruby Elizabeth  Langston :MAILTO:ruby@sleepinggiantmedia.co.uk
STATUS:CONFIRMED
DTSTART:20190528T083000Z
DTEND:20190528T103000Z
LAST-MODIFIED:20190401T120929Z
LOCATION:The Civic Centre, Top Floor The Civic Centre,, Folkestone, CT20 2QY
SUMMARY:LinkedIn Masterclass
URL:https://www.urbanonetwork.co.uk/london-networking-events/1574/2019/05/28/linkedin-masterclass
DESCRIPTION:LinkedIn, the older sister of the social media platform world. We&#039;ve heard many people call it an &quot;online CV&quot; and, whilst it does make a good one, it is so much more.&amp;nbsp;
END:VEVENT
END:VCALENDAR