BEGIN:VCALENDAR
VERSION:2.0
PRODID:-//Urbanonetwork//NONSGML v1.0//EN
METHOD:PUBLISH
BEGIN:VEVENT
UID:urbanonetwork-event-1594
DTSTAMP:20190626T170000Z
ORGANIZER;CN=Ben Faulkner:MAILTO:ben.faulkner@eqinvestors.co.uk
STATUS:CONFIRMED
DTSTART:20190626T170000Z
DTEND:20190626T190000Z
LAST-MODIFIED:20190507T132704Z
LOCATION:EQ Investors, Centennium House, London, EC3R 6DL
SUMMARY:Financial planning: back to basics
URL:https://www.urbanonetwork.co.uk/london-networking-events/1594/2019/06/26/financial-planning-back-to-basics
DESCRIPTION:Join us for an interactive and informative night &amp;nbsp;as we go over&amp;nbsp;some financial planning basics. You&amp;rsquo;ll gain an understanding of:
END:VEVENT
END:VCALENDAR